BEGIN:VCALENDAR
VERSION:2.0
PRODID:-//Tukios.com/
BEGIN:VEVENT
UID:c5611a36-bae5-4498-b6d3-948de811a79c@www.avenidascremation.com
DTSTAMP:20260424T200440Z
DTSTART:20260508T170000Z
DTEND:20260508T180000Z
SUMMARY:Mass
DESCRIPTION:
URL:https://www.avenidascremation.com/obituaries/felix-arvizo
LOCATION: 1220 South 6th Avenue  Tucson AZ 85713
GEO:32.2065536;-110.9689655
END:VEVENT
END:VCALENDAR