BEGIN:VCALENDAR
VERSION:2.0
PRODID:-//Tukios.com/
BEGIN:VEVENT
UID:53dd99cc-abbe-4d93-a42a-b51ad8d53e66@www.avenidascremation.com
DTSTAMP:20260424T195621Z
DTSTART:20260508T163000Z
DTEND:20260508T170000Z
SUMMARY:Rosary
DESCRIPTION:
URL:https://www.avenidascremation.com/obituaries/felix-arvizo
LOCATION: 1220 South 6th Avenue  Tucson AZ 85713
GEO:32.2065536;-110.9689655
END:VEVENT
END:VCALENDAR