BEGIN:VCALENDAR
VERSION:2.0
PRODID:-//Tukios.com/
BEGIN:VEVENT
UID:674bbf81-7fbe-4fb0-8c9a-e03ce5fc33cd@www.avenidascremation.com
DTSTAMP:20260422T021314Z
DTSTART:20260502T180000Z
DTEND:20260502T190000Z
SUMMARY:Memorial Service
DESCRIPTION:
URL:https://www.avenidascremation.com/obituaries/david-chapman
LOCATION:Green Valley Evangelical Free Church 4343 Fuller Road  West Des 
	Moines IA 50265
GEO:41.5599725;-93.76327
END:VEVENT
END:VCALENDAR